BEGIN:VCALENDAR
VERSION:2.0
PRODID:-//maryqueenofmartyrs.org//eCatholic//EN
X-WR-TIMEZONE:LocalTZ
BEGIN:VTIMEZONE
TZID:LocalTZ
X-LIC-LOCATION:LocalTZ
BEGIN:DAYLIGHT
TZOFFSETFROM:-0500
TZOFFSETTO:-0400
TZNAME:LocalTZ
DTSTART:19700308T020000
RRULE:FREQ=YEARLY;BYMONTH=3;BYDAY=2SU
END:DAYLIGHT
BEGIN:STANDARD
TZOFFSETFROM:-0400
TZOFFSETTO:-0500
TZNAME:LocalTZ
DTSTART:19701101T020000
RRULE:FREQ=YEARLY;BYMONTH=11;BYDAY=1SU
END:STANDARD
END:VTIMEZONE
BEGIN:VEVENT
UID:2324819@maryqueenofmartyrs.org
DTSTAMP:20260422T022405Z
DTSTART:20260422T183000
DTEND:20260422T193000
RRULE:FREQ=WEEKLY;BYDAY=WE
SUMMARY:Catholic in Recovery
DESCRIPTION:A 12 Step program based in the upcoming Sunday Scriptures. All
  are welcome! For more information\, please feel free to contact Deacon Ji
 m Greer at 617-645-7915.
END:VEVENT
BEGIN:VEVENT
UID:2583671@maryqueenofmartyrs.org
DTSTAMP:20260422T022405Z
DTSTART:20260514T190000
DTEND:20260514T200000
RRULE:FREQ=MONTHLY;BYDAY=TH;BYSETPOS=2
SUMMARY:Knights of Columbus Council 9822
END:VEVENT
BEGIN:VEVENT
UID:2895061@maryqueenofmartyrs.org
DTSTAMP:20260422T022405Z
DTSTART:20260424T100000
DTEND:20260424T120000
RRULE:FREQ=WEEKLY;UNTIL=20260620;BYDAY=FR
EXDATE:20251003T100000,20251017T100000,20251031T100000,20251114T100000,202
 51128T100000,20251212T100000,20251226T100000,20260102T100000,20260116T1000
 00,20260130T100000,20260213T100000,20260220T100000,20260306T100000,2026032
 0T100000,20260403T100000,20260417T100000,20260501T100000,20260515T100000,2
 0260529T100000,20260612T100000
SUMMARY:CATHOLIC MOMS GROUP
DESCRIPTION:"Did you know Mary Queen of Martyrs has a Catholic Moms group 
 that meets on Fridays during the school year? \n\nThis group if for Cathol
 ic moms along with their young kids to encourage moms who week companionsh
 ip and spiritual growth.\n
END:VEVENT
BEGIN:VEVENT
UID:2895144@maryqueenofmartyrs.org
DTSTAMP:20260422T022405Z
DTSTART:20260422T120000
DTEND:20260422T133000
SUMMARY:Staff Meeting
END:VEVENT
BEGIN:VEVENT
UID:3069324@maryqueenofmartyrs.org
DTSTAMP:20260422T022405Z
DTSTART:20260423T120000
DTEND:20260423T133000
SUMMARY:Bible Study
DESCRIPTION:Come join us for monthly Bible Study!  Lunch and fellowship pr
 ovided.
END:VEVENT
BEGIN:VEVENT
UID:3073528@maryqueenofmartyrs.org
DTSTAMP:20260422T022405Z
DTSTART;VALUE=DATE:20260426
DTEND;VALUE=DATE:20260427
SUMMARY:Confirmation I Meeting
DESCRIPTION:CONFIRMATION I MEETING\nOn April 26 there will be a meeting fo
 r all youth in Confirmation I and their parents right after Edge in the gy
 m. We will be going over important information for next fall\; please make
  every effort to be there. \n
END:VEVENT
BEGIN:VEVENT
UID:3065298@maryqueenofmartyrs.org
DTSTAMP:20260422T022405Z
DTSTART:20260503T113000
DTEND:20260503T123000
SUMMARY:All Are Welcome
DESCRIPTION:Join us for Mass and Reception
END:VEVENT
BEGIN:VEVENT
UID:3073530@maryqueenofmartyrs.org
DTSTAMP:20260422T022405Z
DTSTART:20260516T183000
DTEND:20260516T193000
SUMMARY:Faith and Family Night
DESCRIPTION:Come Join us for Faith and Family Night\nArchbishop Henning to
  throw out the first pitch!\nLocal parishes to sing the National Anthem.\n
 Purchase Tickets at gofevo.com/event/Faith620
END:VEVENT
BEGIN:VEVENT
UID:3069327@maryqueenofmartyrs.org
DTSTAMP:20260422T022405Z
DTSTART:20260521T120000
DTEND:20260521T133000
SUMMARY:Bible Study
DESCRIPTION:Our last Bible Study until Fall!  Come join us for faith\, fel
 lowship\, and lunch!
END:VEVENT
BEGIN:VEVENT
UID:2895147@maryqueenofmartyrs.org
DTSTAMP:20260422T022405Z
DTSTART:20260522T120000
DTEND:20260522T133000
SUMMARY:Staff Meeting
END:VEVENT
END:VCALENDAR
